BEGIN:VCALENDAR
VERSION:2.0
PRODID:-//wp-events-plugin.com//7.2.3.1//EN
BEGIN:VEVENT
UID:590@spiritrealm.net
DTSTART;TZID=America/New_York:20210628T210000
DTEND;TZID=America/New_York:20210628T234500
DTSTAMP:20210618T191859Z
URL:https://www.spiritrealm.net/events/the-hotel-leger-mokelumne-hill-cali
 fornia/
SUMMARY:The Hotel Leger - Mokelumne Hill\, California
DESCRIPTION:Multicam live stream with Ghost Adventures Psychic-Medium Patti
  Negri\, Psychic Medium Amber Martin and Paranormal Investigator Jim Marti
 n.
ATTACH;FMTTYPE=image/jpeg:https://www.spiritrealm.net/wp-content/uploads/2
 021/06/Outside.jpg
CATEGORIES:Spirit Events
END:VEVENT
BEGIN:VTIMEZONE
TZID:America/New_York
X-LIC-LOCATION:America/New_York
BEGIN:DAYLIGHT
DTSTART:20210314T030000
TZOFFSETFROM:-0500
TZOFFSETTO:-0400
TZNAME:EDT
END:DAYLIGHT
END:VTIMEZONE
END:VCALENDAR