BEGIN:VCALENDAR
VERSION:2.0
PRODID:-//wp-events-plugin.com//7.2.3.1//EN
BEGIN:VEVENT
UID:2062@spiritrealm.net
DTSTART;TZID=America/New_York:20220423T220000
DTEND;TZID=America/New_York:20220423T235900
DTSTAMP:20220421T191723Z
URL:https://www.spiritrealm.net/events/state-capital-publishing-museum-gut
 hrie-oklahoma-2/
SUMMARY:State Capital Publishing Museum - Guthrie\, Oklahoma
DESCRIPTION:https://www.spiritrealm.net/events/state-capital-publishing-mus
 eum-guthrie-oklahoma/\n\n
ATTACH;FMTTYPE=image/jpeg:https://www.spiritrealm.net/wp-content/uploads/2
 022/03/logoblack-e1649711354210.jpg
CATEGORIES:Series
END:VEVENT
BEGIN:VTIMEZONE
TZID:America/New_York
X-LIC-LOCATION:America/New_York
BEGIN:DAYLIGHT
DTSTART:20220313T030000
TZOFFSETFROM:-0500
TZOFFSETTO:-0400
TZNAME:EDT
END:DAYLIGHT
END:VTIMEZONE
END:VCALENDAR